BEGIN:VCALENDAR
CALSCALE:GREGORIAN
VERSION:2.0
METHOD:PUBLISH 
X-WR-CALNAME:
BEGIN:VEVENT
DTSTART;TZID=Europe/Paris:20260422T143000
DTEND;TZID=Europe/Paris:20260422T153000
SUMMARY:Les Rendez-vous Nature en Anjou - Quiz plante
CATEGORIE:Randonnées et balades
GEO:47.70470840000000;-0.95645920000000
LOCATION:19, rue Constant Gérard
Noyant-la-Gravoyère
Salle multi-activité\, 49500 Segré-en-Anjou Bleu\, France
URL:https://www.fest.fr/e/2435558
UID:2435558-1@fest.fr
END:VEVENT
END:VCALENDAR
