BEGIN:VCALENDAR
CALSCALE:GREGORIAN
VERSION:2.0
METHOD:PUBLISH 
X-WR-CALNAME:
BEGIN:VEVENT
DTSTART;TZID=Europe/Paris:20260620T183000
DTEND;TZID=Europe/Paris:20260620T193000
SUMMARY:Fête de la musique
CATEGORIE:Concerts et Musique
GEO:47.32822000000000;-2.42686000000000
LOCATION:15 boulevard du Nord
Les Copains d'Amour\, 44350 Guérande\, France
URL:https://www.fest.fr/e/2435533
UID:2435533-1@fest.fr
END:VEVENT
END:VCALENDAR
