BEGIN:VCALENDAR
CALSCALE:GREGORIAN
VERSION:2.0
METHOD:PUBLISH 
X-WR-CALNAME:
BEGIN:VEVENT
DTSTART;TZID=Europe/Paris:20260710T103000
DTEND;TZID=Europe/Paris:20260710T113000
SUMMARY:Chasse au trésor
CATEGORIE:Jeux et Concours
GEO:47.27724000000000;-2.48080000000000
LOCATION:25 rue de la Plage\, 44740 Batz-sur-Mer\, France
URL:https://www.fest.fr/e/2435477
UID:2435477-1@fest.fr
END:VEVENT
BEGIN:VEVENT
DTSTART;TZID=Europe/Paris:20260720T103000
DTEND;TZID=Europe/Paris:20260720T113000
SUMMARY:Chasse au trésor
CATEGORIE:Jeux et Concours
GEO:47.27724000000000;-2.48080000000000
LOCATION:25 rue de la Plage\, 44740 Batz-sur-Mer\, France
URL:https://www.fest.fr/e/2435477
UID:2435477-2@fest.fr
END:VEVENT
BEGIN:VEVENT
DTSTART;TZID=Europe/Paris:20260727T103000
DTEND;TZID=Europe/Paris:20260727T113000
SUMMARY:Chasse au trésor
CATEGORIE:Jeux et Concours
GEO:47.27724000000000;-2.48080000000000
LOCATION:25 rue de la Plage\, 44740 Batz-sur-Mer\, France
URL:https://www.fest.fr/e/2435477
UID:2435477-3@fest.fr
END:VEVENT
BEGIN:VEVENT
DTSTART;TZID=Europe/Paris:20260807T103000
DTEND;TZID=Europe/Paris:20260807T113000
SUMMARY:Chasse au trésor
CATEGORIE:Jeux et Concours
GEO:47.27724000000000;-2.48080000000000
LOCATION:25 rue de la Plage\, 44740 Batz-sur-Mer\, France
URL:https://www.fest.fr/e/2435477
UID:2435477-4@fest.fr
END:VEVENT
BEGIN:VEVENT
DTSTART;TZID=Europe/Paris:20260816T103000
DTEND;TZID=Europe/Paris:20260816T113000
SUMMARY:Chasse au trésor
CATEGORIE:Jeux et Concours
GEO:47.27724000000000;-2.48080000000000
LOCATION:25 rue de la Plage\, 44740 Batz-sur-Mer\, France
URL:https://www.fest.fr/e/2435477
UID:2435477-5@fest.fr
END:VEVENT
BEGIN:VEVENT
DTSTART;TZID=Europe/Paris:20260824T103000
DTEND;TZID=Europe/Paris:20260824T113000
SUMMARY:Chasse au trésor
CATEGORIE:Jeux et Concours
GEO:47.27724000000000;-2.48080000000000
LOCATION:25 rue de la Plage\, 44740 Batz-sur-Mer\, France
URL:https://www.fest.fr/e/2435477
UID:2435477-6@fest.fr
END:VEVENT
END:VCALENDAR
