BEGIN:VCALENDAR
CALSCALE:GREGORIAN
VERSION:2.0
METHOD:PUBLISH 
X-WR-CALNAME:
BEGIN:VEVENT
DTSTART;TZID=Europe/Paris:20260418T143000
DTEND;TZID=Europe/Paris:20260418T153000
SUMMARY:Romería - Café Blabla
CATEGORIE:Spectacles et Théâtre
GEO:51.03361100000000;2.37055600000000
LOCATION:Studio 43\, 19, rue des Fusiliers Marins\, 59140 Dunkerque\, France
URL:https://www.fest.fr/e/2435362
UID:2435362-1@fest.fr
END:VEVENT
END:VCALENDAR
