BEGIN:VCALENDAR
CALSCALE:GREGORIAN
VERSION:2.0
METHOD:PUBLISH 
X-WR-CALNAME:
BEGIN:VEVENT
DTSTART;TZID=Europe/Paris:20260627T140000
DTEND;TZID=Europe/Paris:20260627T150000
SUMMARY:Flânerie  en pays d'othe
CATEGORIE:Expositions, Visites et Découvertes
GEO:48.09251600000000;3.59656100000000
LOCATION:Musée d'Arces en Arts et Traditions\, 43 Grande rue \, 89320 Arces-Dilo\, France
URL:https://www.fest.fr/e/2435329
UID:2435329-1@fest.fr
END:VEVENT
BEGIN:VEVENT
DTSTART;TZID=Europe/Paris:20260628T140000
DTEND;TZID=Europe/Paris:20260628T150000
SUMMARY:Flânerie  en pays d'othe
CATEGORIE:Expositions, Visites et Découvertes
GEO:48.09251600000000;3.59656100000000
LOCATION:Musée d'Arces en Arts et Traditions\, 43 Grande rue \, 89320 Arces-Dilo\, France
URL:https://www.fest.fr/e/2435329
UID:2435329-2@fest.fr
END:VEVENT
END:VCALENDAR
