BEGIN:VCALENDAR
CALSCALE:GREGORIAN
VERSION:2.0
METHOD:PUBLISH 
X-WR-CALNAME:
BEGIN:VEVENT
DTSTART;TZID=Europe/Paris:20260502T100000
DTEND;TZID=Europe/Paris:20260502T110000
SUMMARY:Immersion au coeur de la ruche
CATEGORIE:Expositions, Visites et Découvertes
GEO:50.74521800000000;3.11547600000000
LOCATION:La Source\, 293 rue de Lille  RONCQ\, 59223 Roncq\, France
URL:https://www.fest.fr/e/2435316
UID:2435316-1@fest.fr
END:VEVENT
END:VCALENDAR
