BEGIN:VCALENDAR
CALSCALE:GREGORIAN
VERSION:2.0
METHOD:PUBLISH 
X-WR-CALNAME:
BEGIN:VEVENT
DTSTART;TZID=Europe/Paris:20260524T173000
DTEND;TZID=Europe/Paris:20260524T183000
SUMMARY:Yin Yoga & bains sonores à La Butte
CATEGORIE:Stages, Ateliers et Initiations
GEO:48.61060000000000;-4.29882000000000
LOCATION:12 rue de la Mer
La Butte\, 29260 Plouider\, France
URL:https://www.fest.fr/e/2435265
UID:2435265-1@fest.fr
END:VEVENT
END:VCALENDAR
