BEGIN:VCALENDAR
CALSCALE:GREGORIAN
VERSION:2.0
METHOD:PUBLISH 
X-WR-CALNAME:
BEGIN:VEVENT
DTSTART;TZID=Europe/Paris:20260712T100000
DTEND;TZID=Europe/Paris:20260712T110000
SUMMARY:Exposition "Peinture et Sculpture en Presqu'île"
CATEGORIE:Expositions, Visites et Découvertes
GEO:48.24614000000000;-4.49592000000000
LOCATION:Ecole Jean Jaures
Rue Alsace-Lorraine\, 29160 Crozon\, France
URL:https://www.fest.fr/e/2435254
UID:2435254-1@fest.fr
END:VEVENT
END:VCALENDAR
