BEGIN:VCALENDAR
CALSCALE:GREGORIAN
VERSION:2.0
METHOD:PUBLISH 
X-WR-CALNAME:
BEGIN:VEVENT
DTSTART;TZID=Europe/Paris:20260706T163000
DTEND;TZID=Europe/Paris:20260706T173000
SUMMARY:Boc’han et les habitants de la plage | Chapitre 1
CATEGORIE:Spectacles et Théâtre
GEO:48.81443510000000;-3.38059640000000
LOCATION:Plage de Port l'Epine
Rue de Port l'Epine\, 22660 Trélévern\, France
URL:https://www.fest.fr/e/2435164
UID:2435164-1@fest.fr
END:VEVENT
BEGIN:VEVENT
DTSTART;TZID=Europe/Paris:20260902T103000
DTEND;TZID=Europe/Paris:20260902T113000
SUMMARY:Boc’han et les habitants de la plage | Chapitre 1
CATEGORIE:Spectacles et Théâtre
GEO:48.81443510000000;-3.38059640000000
LOCATION:Plage de Port l'Epine
Rue de Port l'Epine\, 22660 Trélévern\, France
URL:https://www.fest.fr/e/2435164
UID:2435164-2@fest.fr
END:VEVENT
BEGIN:VEVENT
DTSTART;TZID=Europe/Paris:20261019T163000
DTEND;TZID=Europe/Paris:20261019T173000
SUMMARY:Boc’han et les habitants de la plage | Chapitre 1
CATEGORIE:Spectacles et Théâtre
GEO:48.81443510000000;-3.38059640000000
LOCATION:Plage de Port l'Epine
Rue de Port l'Epine\, 22660 Trélévern\, France
URL:https://www.fest.fr/e/2435164
UID:2435164-3@fest.fr
END:VEVENT
BEGIN:VEVENT
DTSTART;TZID=Europe/Paris:20261026T163000
DTEND;TZID=Europe/Paris:20261026T173000
SUMMARY:Boc’han et les habitants de la plage | Chapitre 1
CATEGORIE:Spectacles et Théâtre
GEO:48.81443510000000;-3.38059640000000
LOCATION:Plage de Port l'Epine
Rue de Port l'Epine\, 22660 Trélévern\, France
URL:https://www.fest.fr/e/2435164
UID:2435164-4@fest.fr
END:VEVENT
END:VCALENDAR
