BEGIN:VCALENDAR
CALSCALE:GREGORIAN
VERSION:2.0
METHOD:PUBLISH 
X-WR-CALNAME:
BEGIN:VEVENT
DTSTART;TZID=Europe/Paris:20260417T123456
DTEND;TZID=Europe/Paris:20260417T133456
SUMMARY:Pièce de théâtre « Association de malfaiteurs » de Jérôme Lechair ! - Andel
CATEGORIE:Spectacles et Théâtre
GEO:48.49041000000000;-2.56815000000000
LOCATION:9 Rue du Vieux Moulin
Salle du Vieux Moulin\, 22400 Andel\, France
URL:https://www.fest.fr/e/2435157
UID:2435157-1@fest.fr
END:VEVENT
END:VCALENDAR
