BEGIN:VCALENDAR
CALSCALE:GREGORIAN
VERSION:2.0
METHOD:PUBLISH 
X-WR-CALNAME:
BEGIN:VEVENT
DTSTART;TZID=Europe/Paris:20260425T150000
DTEND;TZID=Europe/Paris:20260425T160000
SUMMARY:Exposition : Mémoires de Sarlabous
CATEGORIE:Expositions, Visites et Découvertes
GEO:43.07728190000000;0.27735801000000
LOCATION:8 route des Baronnies
A la salle des Fêtes
SARLABOUS\, 65130 Sarlabous\, France
URL:https://www.fest.fr/e/2435079
UID:2435079-1@fest.fr
END:VEVENT
END:VCALENDAR
