BEGIN:VCALENDAR
CALSCALE:GREGORIAN
VERSION:2.0
METHOD:PUBLISH 
X-WR-CALNAME:
BEGIN:VEVENT
DTSTART;TZID=Europe/Paris:20260418T093000
DTEND;TZID=Europe/Paris:20260418T103000
SUMMARY:ABC DE LA BIODIVERSITÉ - SORTIE PAPILLONS
CATEGORIE:Randonnées et balades
GEO:43.00531200000000;0.68766100000000
LOCATION:Place de la Mairie
VILLAGE\, 31510 Malvezie\, France
URL:https://www.fest.fr/e/2435047
UID:2435047-1@fest.fr
END:VEVENT
END:VCALENDAR
