BEGIN:VCALENDAR
CALSCALE:GREGORIAN
VERSION:2.0
METHOD:PUBLISH 
X-WR-CALNAME:
BEGIN:VEVENT
DTSTART;TZID=Europe/Paris:20260411T203000
DTEND;TZID=Europe/Paris:20260411T213000
SUMMARY:CONCERT : MAT SOLO ÉLECTRIQUE
CATEGORIE:Concerts et Musique
GEO:43.30784050000000;1.22204260000000
LOCATION:10 Chemin de l'Industrie\, 31390 Carbonne\, France
URL:https://www.fest.fr/e/2435007
UID:2435007-1@fest.fr
END:VEVENT
END:VCALENDAR
