BEGIN:VCALENDAR
CALSCALE:GREGORIAN
VERSION:2.0
METHOD:PUBLISH 
X-WR-CALNAME:
BEGIN:VEVENT
DTSTART;TZID=Europe/Paris:20260422T123456
DTEND;TZID=Europe/Paris:20260422T133456
SUMMARY:MES P'TITES VACANCES
CATEGORIE:Stages, Ateliers et Initiations
GEO:43.54749780000000;3.97964897000000
LOCATION:Avenue des Comtes de Melgueil\, 34130 Mauguio\, France
URL:https://www.fest.fr/e/2434998
UID:2434998-1@fest.fr
END:VEVENT
END:VCALENDAR
