BEGIN:VCALENDAR
CALSCALE:GREGORIAN
VERSION:2.0
METHOD:PUBLISH 
X-WR-CALNAME:
BEGIN:VEVENT
DTSTART;TZID=Europe/Paris:20260420T123456
DTEND;TZID=Europe/Paris:20260420T133456
SUMMARY:STAGES VACANCES 3-9 ANS LE P'TIT CLUB
CATEGORIE:Stages, Ateliers et Initiations
GEO:43.59181090000000;3.90306230000000
LOCATION:119 Rue de la Rauzé Basse\, 34000 Montpellier\, France
URL:https://www.fest.fr/e/2434963
UID:2434963-1@fest.fr
END:VEVENT
BEGIN:VEVENT
DTSTART;TZID=Europe/Paris:20260427T123456
DTEND;TZID=Europe/Paris:20260427T133456
SUMMARY:STAGES VACANCES 3-9 ANS LE P'TIT CLUB
CATEGORIE:Stages, Ateliers et Initiations
GEO:43.59181090000000;3.90306230000000
LOCATION:119 Rue de la Rauzé Basse\, 34000 Montpellier\, France
URL:https://www.fest.fr/e/2434963
UID:2434963-2@fest.fr
END:VEVENT
END:VCALENDAR
