BEGIN:VCALENDAR
CALSCALE:GREGORIAN
VERSION:2.0
METHOD:PUBLISH 
X-WR-CALNAME:
BEGIN:VEVENT
DTSTART;TZID=Europe/Paris:20260418T160000
DTEND;TZID=Europe/Paris:20260418T170000
SUMMARY:Cinéfilou Goûter "Les toutes petites créatures 2"
CATEGORIE:Spectacles et Théâtre
GEO:48.97773000000000;-1.55717000000000
LOCATION:34 Avenue de l'Aumesle\, 50590 Montmartin-sur-Mer\, France
URL:https://www.fest.fr/e/2434906
UID:2434906-1@fest.fr
END:VEVENT
END:VCALENDAR
