BEGIN:VCALENDAR
CALSCALE:GREGORIAN
VERSION:2.0
METHOD:PUBLISH 
X-WR-CALNAME:
BEGIN:VEVENT
DTSTART;TZID=Europe/Paris:20260422T183000
DTEND;TZID=Europe/Paris:20260422T193000
SUMMARY:Inauguration du MADD Bordeaux
CATEGORIE:Expositions, Visites et Découvertes
GEO:44.83895700000000;-0.57970900000000
LOCATION:Musée des Arts décoratifs et du Design\, 39 rue Bouffard\, 33000 Bordeaux\, France
URL:https://www.fest.fr/e/2434869
UID:2434869-1@fest.fr
END:VEVENT
END:VCALENDAR
