BEGIN:VCALENDAR
CALSCALE:GREGORIAN
VERSION:2.0
METHOD:PUBLISH 
X-WR-CALNAME:
BEGIN:VEVENT
DTSTART;TZID=Europe/Paris:20260523T140000
DTEND;TZID=Europe/Paris:20260523T150000
SUMMARY:Biegas et l'Ukraine
CATEGORIE:Expositions, Visites et Découvertes
GEO:48.85128800000000;2.35571400000000
LOCATION:Bibliothèque polonaise de Paris - musée Adam-Mickiewicz, salon Chopin et musée B\, 6 quai d'Orléans\, 75004 Paris 4e\, France
URL:https://www.fest.fr/e/2434824
UID:2434824-1@fest.fr
END:VEVENT
END:VCALENDAR
