BEGIN:VCALENDAR
CALSCALE:GREGORIAN
VERSION:2.0
METHOD:PUBLISH 
X-WR-CALNAME:
BEGIN:VEVENT
DTSTART;TZID=Europe/Paris:20260722T150000
DTEND;TZID=Europe/Paris:20260722T160000
SUMMARY:Visite guidée : 50 nuances de bétons...
CATEGORIE:Expositions, Visites et Découvertes
GEO:49.49177580000000;0.10755540000000
LOCATION:181 Rue de Paris
Maison du patrimoine\, 76600 Le Havre\, France
URL:https://www.fest.fr/e/2434814
UID:2434814-1@fest.fr
END:VEVENT
BEGIN:VEVENT
DTSTART;TZID=Europe/Paris:20260819T150000
DTEND;TZID=Europe/Paris:20260819T160000
SUMMARY:Visite guidée : 50 nuances de bétons...
CATEGORIE:Expositions, Visites et Découvertes
GEO:49.49177580000000;0.10755540000000
LOCATION:181 Rue de Paris
Maison du patrimoine\, 76600 Le Havre\, France
URL:https://www.fest.fr/e/2434814
UID:2434814-2@fest.fr
END:VEVENT
END:VCALENDAR
