BEGIN:VCALENDAR
CALSCALE:GREGORIAN
VERSION:2.0
METHOD:PUBLISH 
X-WR-CALNAME:
BEGIN:VEVENT
DTSTART;TZID=Europe/Paris:20260729T140000
DTEND;TZID=Europe/Paris:20260729T150000
SUMMARY:Rue aux jeux
CATEGORIE:Jeux et Concours
GEO:48.93202100000000;0.20239900000000
LOCATION:City du docteur boullard\, 61120 Vimoutiers\, France
URL:https://www.fest.fr/e/2434801
UID:2434801-1@fest.fr
END:VEVENT
END:VCALENDAR
