BEGIN:VCALENDAR
CALSCALE:GREGORIAN
VERSION:2.0
METHOD:PUBLISH 
X-WR-CALNAME:
BEGIN:VEVENT
DTSTART;TZID=Europe/Paris:20260717T140000
DTEND;TZID=Europe/Paris:20260717T150000
SUMMARY:Balade gourmande à Crouttes
CATEGORIE:Randonnées et balades
GEO:48.93253640000000;0.14236281000000
LOCATION:Lieu-dit La Galotière
RDV au Domaine de la Galotière\, 61120 Crouttes\, France
URL:https://www.fest.fr/e/2434799
UID:2434799-1@fest.fr
END:VEVENT
END:VCALENDAR
