BEGIN:VCALENDAR
CALSCALE:GREGORIAN
VERSION:2.0
METHOD:PUBLISH 
X-WR-CALNAME:
BEGIN:VEVENT
DTSTART;TZID=Europe/Paris:20260627T100000
DTEND;TZID=Europe/Paris:20260627T110000
SUMMARY:Découverte du marbre de Sarrancolin à Ilhet
CATEGORIE:Expositions, Visites et Découvertes
GEO:50.00961000000000;4.71290600000000
LOCATION:65410 Sarrancolin\, Place du Vivier\, 65410 Sarrancolin\, France
URL:https://www.fest.fr/e/2434755
UID:2434755-1@fest.fr
END:VEVENT
END:VCALENDAR
