BEGIN:VCALENDAR
CALSCALE:GREGORIAN
VERSION:2.0
METHOD:PUBLISH 
X-WR-CALNAME:
BEGIN:VEVENT
DTSTART;TZID=Europe/Paris:20260728T190000
DTEND;TZID=Europe/Paris:20260728T200000
SUMMARY:Les Promenades musicales du Pays d'Auge 32e édition : Amor Eterno
CATEGORIE:Concerts et Musique
GEO:49.28658360000000;-0.11791950000000
LOCATION:3 Place de l'Église
Église Saint-Michel\, 14390 Cabourg\, France
URL:https://www.fest.fr/e/2434738
UID:2434738-1@fest.fr
END:VEVENT
END:VCALENDAR
