BEGIN:VCALENDAR
CALSCALE:GREGORIAN
VERSION:2.0
METHOD:PUBLISH 
X-WR-CALNAME:
BEGIN:VEVENT
DTSTART;TZID=Europe/Paris:20260808T143000
DTEND;TZID=Europe/Paris:20260808T153000
SUMMARY:Visite guidée : Central téléphonique
CATEGORIE:Expositions, Visites et Découvertes
GEO:49.49935130000000;0.10076890000000
LOCATION:Rue Gabriel Monod\, 76600 Le Havre\, France
URL:https://www.fest.fr/e/2434723
UID:2434723-1@fest.fr
END:VEVENT
BEGIN:VEVENT
DTSTART;TZID=Europe/Paris:20260808T160000
DTEND;TZID=Europe/Paris:20260808T170000
SUMMARY:Visite guidée : Central téléphonique
CATEGORIE:Expositions, Visites et Découvertes
GEO:49.49935130000000;0.10076890000000
LOCATION:Rue Gabriel Monod\, 76600 Le Havre\, France
URL:https://www.fest.fr/e/2434723
UID:2434723-2@fest.fr
END:VEVENT
END:VCALENDAR
