BEGIN:VCALENDAR
CALSCALE:GREGORIAN
VERSION:2.0
METHOD:PUBLISH 
X-WR-CALNAME:
BEGIN:VEVENT
DTSTART;TZID=Europe/Paris:20260418T100000
DTEND;TZID=Europe/Paris:20260418T110000
SUMMARY:Balade pédestre "L’histoire de la Présence russe à Colombelles"
CATEGORIE:Expositions, Visites et Découvertes
GEO:49.19182100000000;-0.30663700000000
LOCATION:Rue des Ateliers\, 14460 Colombelles\, France
URL:https://www.fest.fr/e/2434709
UID:2434709-1@fest.fr
END:VEVENT
END:VCALENDAR
