BEGIN:VCALENDAR
CALSCALE:GREGORIAN
VERSION:2.0
METHOD:PUBLISH 
X-WR-CALNAME:
BEGIN:VEVENT
DTSTART;TZID=Europe/Paris:20260606T090000
DTEND;TZID=Europe/Paris:20260606T100000
SUMMARY:Le Rallye de la Gastronomie - Cité du Chocolat Valrhona
CATEGORIE:Expositions, Visites et Découvertes
GEO:45.06856800000000;4.84337500000000
LOCATION:Cité du Chocolat Valrhona\, 12 avenue du Président Roosevelt\, 26600 Tain-l'Hermitage\, France
URL:https://www.fest.fr/e/2434670
UID:2434670-1@fest.fr
END:VEVENT
END:VCALENDAR
