BEGIN:VCALENDAR
CALSCALE:GREGORIAN
VERSION:2.0
METHOD:PUBLISH 
X-WR-CALNAME:
BEGIN:VEVENT
DTSTART;TZID=Europe/Paris:20260426T150000
DTEND;TZID=Europe/Paris:20260426T160000
SUMMARY:32ème rencontre chorales
CATEGORIE:Concerts et Musique
GEO:46.37484150000000;0.40756847000000
LOCATION:Salle des fêtes\, 86160 Gençay\, France
URL:https://www.fest.fr/e/2434513
UID:2434513-1@fest.fr
END:VEVENT
END:VCALENDAR
