BEGIN:VCALENDAR
CALSCALE:GREGORIAN
VERSION:2.0
METHOD:PUBLISH 
X-WR-CALNAME:
BEGIN:VEVENT
DTSTART;TZID=Europe/Paris:20260527T100000
DTEND;TZID=Europe/Paris:20260527T110000
SUMMARY:Dans ma Petite Cuisine !
CATEGORIE:Stages, Ateliers et Initiations
GEO:48.90029900000000;2.39550000000000
LOCATION:Bibliothèque Jules Verne - Pantin\, 73 Avenue Édouard-Vaillant\, 93500 Pantin\, France
URL:https://www.fest.fr/e/2434472
UID:2434472-1@fest.fr
END:VEVENT
BEGIN:VEVENT
DTSTART;TZID=Europe/Paris:20260527T150000
DTEND;TZID=Europe/Paris:20260527T160000
SUMMARY:Dans ma Petite Cuisine !
CATEGORIE:Stages, Ateliers et Initiations
GEO:48.90029900000000;2.39550000000000
LOCATION:Bibliothèque Jules Verne - Pantin\, 73 Avenue Édouard-Vaillant\, 93500 Pantin\, France
URL:https://www.fest.fr/e/2434472
UID:2434472-2@fest.fr
END:VEVENT
BEGIN:VEVENT
DTSTART;TZID=Europe/Paris:20260606T100000
DTEND;TZID=Europe/Paris:20260606T110000
SUMMARY:Dans ma Petite Cuisine !
CATEGORIE:Stages, Ateliers et Initiations
GEO:48.90029900000000;2.39550000000000
LOCATION:Bibliothèque Jules Verne - Pantin\, 73 Avenue Édouard-Vaillant\, 93500 Pantin\, France
URL:https://www.fest.fr/e/2434472
UID:2434472-3@fest.fr
END:VEVENT
END:VCALENDAR
