BEGIN:VCALENDAR
CALSCALE:GREGORIAN
VERSION:2.0
METHOD:PUBLISH 
X-WR-CALNAME:
BEGIN:VEVENT
DTSTART;TZID=Europe/Paris:20260926T123456
DTEND;TZID=Europe/Paris:20260926T133456
SUMMARY:Zumba Party
CATEGORIE:Stages, Ateliers et Initiations
GEO:44.53091470000000;0.31837920000000
LOCATION:Place Angéline Beausoleil
Salle des fêtes\, 47350 Peyrière\, France
URL:https://www.fest.fr/e/2434469
UID:2434469-1@fest.fr
END:VEVENT
END:VCALENDAR
