BEGIN:VCALENDAR
CALSCALE:GREGORIAN
VERSION:2.0
METHOD:PUBLISH 
X-WR-CALNAME:
BEGIN:VEVENT
DTSTART;TZID=Europe/Paris:20260603T174500
DTEND;TZID=Europe/Paris:20260603T184500
SUMMARY:Découverte de l'Hatha Yoga
CATEGORIE:Stages, Ateliers et Initiations
GEO:44.22425190000000;-1.15358560000000
LOCATION:Salle des Fêtes\, 40200 Sainte-Eulalie-en-Born\, France
URL:https://www.fest.fr/e/2434403
UID:2434403-1@fest.fr
END:VEVENT
END:VCALENDAR
