BEGIN:VCALENDAR
CALSCALE:GREGORIAN
VERSION:2.0
METHOD:PUBLISH 
X-WR-CALNAME:
BEGIN:VEVENT
DTSTART;TZID=Europe/Paris:20260607T103000
DTEND;TZID=Europe/Paris:20260607T113000
SUMMARY:Tous à la ferme -Ana L'EOST
CATEGORIE:Expositions, Visites et Découvertes
GEO:48.39242600000000;-4.28554600000000
LOCATION:Tous à la ferme -Ana L'EOST\, zad de la gare 80 Allée de la voie romaine\, 29470 Loperhet\, France
URL:https://www.fest.fr/e/2434394
UID:2434394-1@fest.fr
END:VEVENT
END:VCALENDAR
