BEGIN:VCALENDAR
CALSCALE:GREGORIAN
VERSION:2.0
METHOD:PUBLISH 
X-WR-CALNAME:
BEGIN:VEVENT
DTSTART;TZID=Europe/Paris:20261015T200000
DTEND;TZID=Europe/Paris:20261015T210000
SUMMARY:Marcus Gad  
CATEGORIE:Concerts et musique
GEO:47.34574423838600;5.06008428300700
LOCATION:La Vapeur\, 42, avenue de Stalingrad\, 21000 Dijon\, France
URL:https://www.fest.fr/e/2434310
UID:2434310-1@fest.fr
END:VEVENT
END:VCALENDAR
