BEGIN:VCALENDAR
CALSCALE:GREGORIAN
VERSION:2.0
METHOD:PUBLISH 
X-WR-CALNAME:
BEGIN:VEVENT
DTSTART;TZID=Europe/Paris:20260425T120000
DTEND;TZID=Europe/Paris:20260425T130000
SUMMARY:Journée apéro  avec Pinpon - Exoudun
CATEGORIE:Fêtes et Animations
GEO:46.34446300000000;-0.07984300000000
LOCATION:14 Imp. de Crémille
Parc devant la Mairie\, 79800 Exoudun\, France
URL:https://www.fest.fr/e/2434289
UID:2434289-1@fest.fr
END:VEVENT
END:VCALENDAR
