BEGIN:VCALENDAR
CALSCALE:GREGORIAN
VERSION:2.0
METHOD:PUBLISH 
X-WR-CALNAME:
BEGIN:VEVENT
DTSTART;TZID=Europe/Paris:20260418T100000
DTEND;TZID=Europe/Paris:20260418T110000
SUMMARY:Atelier « faire-soi-même » à Egletons
CATEGORIE:Stages, Ateliers et Initiations
GEO:45.40179000000000;2.03554180000000
LOCATION:18 Rue du Bosquet
Ancienne école maternelle des combes\, 19300 Égletons\, France
URL:https://www.fest.fr/e/2434244
UID:2434244-1@fest.fr
END:VEVENT
END:VCALENDAR
