BEGIN:VCALENDAR
CALSCALE:GREGORIAN
VERSION:2.0
METHOD:PUBLISH 
X-WR-CALNAME:
BEGIN:VEVENT
DTSTART;TZID=Europe/Paris:20260514T100000
DTEND;TZID=Europe/Paris:20260514T110000
SUMMARY:Tournoi de handball
CATEGORIE:Sports
GEO:48.33933500000000;6.63741300000000
LOCATION:Stade Lucien Nicolas\, Rue Charles Gratia\, 88700 Rambervillers\, France
URL:https://www.fest.fr/e/2434238
UID:2434238-1@fest.fr
END:VEVENT
END:VCALENDAR
