BEGIN:VCALENDAR
CALSCALE:GREGORIAN
VERSION:2.0
METHOD:PUBLISH 
X-WR-CALNAME:
BEGIN:VEVENT
DTSTART;TZID=Europe/Paris:20260420T150000
DTEND;TZID=Europe/Paris:20260420T160000
SUMMARY:Stage "Peau Paysage"
CATEGORIE:Stages, Ateliers et Initiations
GEO:50.62170800000000;3.07975400000000
LOCATION:Atelier-Galerie Bleu\, 26, rue Georges Clémenceau\, 59000 Lille\, France
URL:https://www.fest.fr/e/2434131
UID:2434131-1@fest.fr
END:VEVENT
BEGIN:VEVENT
DTSTART;TZID=Europe/Paris:20260421T150000
DTEND;TZID=Europe/Paris:20260421T160000
SUMMARY:Stage "Peau Paysage"
CATEGORIE:Stages, Ateliers et Initiations
GEO:50.62170800000000;3.07975400000000
LOCATION:Atelier-Galerie Bleu\, 26, rue Georges Clémenceau\, 59000 Lille\, France
URL:https://www.fest.fr/e/2434131
UID:2434131-2@fest.fr
END:VEVENT
BEGIN:VEVENT
DTSTART;TZID=Europe/Paris:20260422T150000
DTEND;TZID=Europe/Paris:20260422T160000
SUMMARY:Stage "Peau Paysage"
CATEGORIE:Stages, Ateliers et Initiations
GEO:50.62170800000000;3.07975400000000
LOCATION:Atelier-Galerie Bleu\, 26, rue Georges Clémenceau\, 59000 Lille\, France
URL:https://www.fest.fr/e/2434131
UID:2434131-3@fest.fr
END:VEVENT
BEGIN:VEVENT
DTSTART;TZID=Europe/Paris:20260423T150000
DTEND;TZID=Europe/Paris:20260423T160000
SUMMARY:Stage "Peau Paysage"
CATEGORIE:Stages, Ateliers et Initiations
GEO:50.62170800000000;3.07975400000000
LOCATION:Atelier-Galerie Bleu\, 26, rue Georges Clémenceau\, 59000 Lille\, France
URL:https://www.fest.fr/e/2434131
UID:2434131-4@fest.fr
END:VEVENT
END:VCALENDAR
