BEGIN:VCALENDAR
CALSCALE:GREGORIAN
VERSION:2.0
METHOD:PUBLISH 
X-WR-CALNAME:
BEGIN:VEVENT
DTSTART;TZID=Europe/Paris:20260718T220000
DTEND;TZID=Europe/Paris:20260718T230000
SUMMARY:Hamlet - Festival d'Avignon
CATEGORIE:Spectacles et théâtre
LOCATION:Villeneuve en Scène\, Avenue Charles de Gaulle\, 30400 Villeneuve-lès-Avignon\, France
URL:https://www.fest.fr/e/2434120
UID:2434120-1@fest.fr
END:VEVENT
END:VCALENDAR
