BEGIN:VCALENDAR
CALSCALE:GREGORIAN
VERSION:2.0
METHOD:PUBLISH 
X-WR-CALNAME:
BEGIN:VEVENT
DTSTART;TZID=Europe/Paris:20260508T060000
DTEND;TZID=Europe/Paris:20260508T070000
SUMMARY:Grande brocante
CATEGORIE:Brocantes, Bourses et Vide-Greniers
GEO:45.00861920000000;0.16537055000000
LOCATION:Place Clemenceau\, 24700 Montpon-Ménestérol\, France
URL:https://www.fest.fr/e/2434109
UID:2434109-1@fest.fr
END:VEVENT
END:VCALENDAR
