BEGIN:VCALENDAR
CALSCALE:GREGORIAN
VERSION:2.0
METHOD:PUBLISH 
X-WR-CALNAME:
BEGIN:VEVENT
DTSTART;TZID=Europe/Paris:20260505T203000
DTEND;TZID=Europe/Paris:20260505T213000
SUMMARY:Faut-il désespérer de la culture ?
CATEGORIE:Conférences, Forums et Débats
GEO:43.48356630000000;-1.51937720000000
LOCATION:19 rue des Quatre Cantons
Écuries de Baroja\, 64600 Anglet\, France
URL:https://www.fest.fr/e/2434104
UID:2434104-1@fest.fr
END:VEVENT
END:VCALENDAR
