BEGIN:VCALENDAR
CALSCALE:GREGORIAN
VERSION:2.0
METHOD:PUBLISH 
X-WR-CALNAME:
BEGIN:VEVENT
DTSTART;TZID=Europe/Paris:20260531T140000
DTEND;TZID=Europe/Paris:20260531T150000
SUMMARY:Relais vélo famille et goûter partagé
CATEGORIE:Randonnées et balades
GEO:46.19009900000000;-1.05888600000000
LOCATION:Centre intergénérationnel le Vill'Âges\, 23 Rue des Roses Dompierre sur mer\, 17139 Dompierre-sur-Mer\, France
URL:https://www.fest.fr/e/2434085
UID:2434085-1@fest.fr
END:VEVENT
END:VCALENDAR
