BEGIN:VCALENDAR
CALSCALE:GREGORIAN
VERSION:2.0
METHOD:PUBLISH 
X-WR-CALNAME:
BEGIN:VEVENT
DTSTART;TZID=Europe/Paris:20260506T100000
DTEND;TZID=Europe/Paris:20260506T110000
SUMMARY:Nouvelles pistes cyclables au Sud : quelle chance !
CATEGORIE:Randonnées et balades
GEO:46.15125500000000;-1.15122500000000
LOCATION:Aquarium de La Rochelle\, 65 Quai Louis Prunier\, 17000 La Rochelle\, France
URL:https://www.fest.fr/e/2434083
UID:2434083-1@fest.fr
END:VEVENT
END:VCALENDAR
