BEGIN:VCALENDAR
CALSCALE:GREGORIAN
VERSION:2.0
METHOD:PUBLISH 
X-WR-CALNAME:
BEGIN:VEVENT
DTSTART;TZID=Europe/Paris:20260419T100000
DTEND;TZID=Europe/Paris:20260419T110000
SUMMARY:Stage de danse contemporaine : "En mouvements"
CATEGORIE:Stages, Ateliers et Initiations
GEO:46.64907000000000;-0.25198000000000
LOCATION:7 Rue de la Citadelle
L'Archipel\, 79200 Parthenay\, France
URL:https://www.fest.fr/e/2433924
UID:2433924-1@fest.fr
END:VEVENT
BEGIN:VEVENT
DTSTART;TZID=Europe/Paris:20260419T140000
DTEND;TZID=Europe/Paris:20260419T150000
SUMMARY:Stage de danse contemporaine : "En mouvements"
CATEGORIE:Stages, Ateliers et Initiations
GEO:46.64907000000000;-0.25198000000000
LOCATION:7 Rue de la Citadelle
L'Archipel\, 79200 Parthenay\, France
URL:https://www.fest.fr/e/2433924
UID:2433924-2@fest.fr
END:VEVENT
END:VCALENDAR
