BEGIN:VCALENDAR
CALSCALE:GREGORIAN
VERSION:2.0
METHOD:PUBLISH 
X-WR-CALNAME:
BEGIN:VEVENT
DTSTART;TZID=Europe/Paris:20260610T100000
DTEND;TZID=Europe/Paris:20260610T110000
SUMMARY:Exposition "Découverte du Gouf de Capbreton"
CATEGORIE:Expositions, Visites et Découvertes
GEO:43.52628430000000;-1.51964300000000
LOCATION:297 avenue de l'Adour
Maison de l'Environnement\, 64600 Anglet\, France
URL:https://www.fest.fr/e/2433906
UID:2433906-1@fest.fr
END:VEVENT
BEGIN:VEVENT
DTSTART;TZID=Europe/Paris:20260610T140000
DTEND;TZID=Europe/Paris:20260610T150000
SUMMARY:Exposition "Découverte du Gouf de Capbreton"
CATEGORIE:Expositions, Visites et Découvertes
GEO:43.52628430000000;-1.51964300000000
LOCATION:297 avenue de l'Adour
Maison de l'Environnement\, 64600 Anglet\, France
URL:https://www.fest.fr/e/2433906
UID:2433906-2@fest.fr
END:VEVENT
END:VCALENDAR
