BEGIN:VCALENDAR
CALSCALE:GREGORIAN
VERSION:2.0
METHOD:PUBLISH 
X-WR-CALNAME:
BEGIN:VEVENT
DTSTART;TZID=Europe/Paris:20260509T213000
DTEND;TZID=Europe/Paris:20260509T223000
SUMMARY:La Naute : Winston McAnuff feat Bazbaz & Crapy PP
CATEGORIE:Concerts et Musique
GEO:46.03299260000000;2.28118268000000
LOCATION:Plan d'eau de la Naute\, 23190 Champagnat\, France
URL:https://www.fest.fr/e/2433902
UID:2433902-1@fest.fr
END:VEVENT
END:VCALENDAR
