BEGIN:VCALENDAR
CALSCALE:GREGORIAN
VERSION:2.0
METHOD:PUBLISH 
X-WR-CALNAME:
BEGIN:VEVENT
DTSTART;TZID=Europe/Paris:20260425T110000
DTEND;TZID=Europe/Paris:20260425T120000
SUMMARY:La Fête de la Bière
CATEGORIE:Fêtes et Animations
GEO:48.07303770000000;1.33890610000000
LOCATION:Halle de Sancheville\, 28200 Châteaudun\, France
URL:https://www.fest.fr/e/2433773
UID:2433773-1@fest.fr
END:VEVENT
END:VCALENDAR
