BEGIN:VCALENDAR
CALSCALE:GREGORIAN
VERSION:2.0
METHOD:PUBLISH 
X-WR-CALNAME:
BEGIN:VEVENT
DTSTART;TZID=Europe/Paris:20260523T190000
DTEND;TZID=Europe/Paris:20260523T200000
SUMMARY:Visite guidée de l'exposition "En fanfare ! La musique s'invite au Musée du Joue
CATEGORIE:Expositions, Visites et Découvertes
GEO:48.92845800000000;2.03787200000000
LOCATION:Musée du jouet\, 1 enclos de l'Abbaye\, 78300 Poissy\, France
URL:https://www.fest.fr/e/2433771
UID:2433771-1@fest.fr
END:VEVENT
BEGIN:VEVENT
DTSTART;TZID=Europe/Paris:20260523T203000
DTEND;TZID=Europe/Paris:20260523T213000
SUMMARY:Visite guidée de l'exposition "En fanfare ! La musique s'invite au Musée du Joue
CATEGORIE:Expositions, Visites et Découvertes
GEO:48.92845800000000;2.03787200000000
LOCATION:Musée du jouet\, 1 enclos de l'Abbaye\, 78300 Poissy\, France
URL:https://www.fest.fr/e/2433771
UID:2433771-2@fest.fr
END:VEVENT
END:VCALENDAR
