BEGIN:VCALENDAR
CALSCALE:GREGORIAN
VERSION:2.0
METHOD:PUBLISH 
X-WR-CALNAME:
BEGIN:VEVENT
DTSTART;TZID=Europe/Paris:20260424T170000
DTEND;TZID=Europe/Paris:20260424T180000
SUMMARY:[CONFÉRENCE] La construction du canal
CATEGORIE:Conférences, Forums et Débats
GEO:47.33801790000000;2.86552878000000
LOCATION:Rue des Ponts\, 18300 Saint-Satur\, France
URL:https://www.fest.fr/e/2433762
UID:2433762-1@fest.fr
END:VEVENT
END:VCALENDAR
