BEGIN:VCALENDAR
CALSCALE:GREGORIAN
VERSION:2.0
METHOD:PUBLISH 
X-WR-CALNAME:
BEGIN:VEVENT
DTSTART;TZID=Europe/Paris:20260606T123456
DTEND;TZID=Europe/Paris:20260606T133456
SUMMARY:Concours de la Pétanque Saugaine
CATEGORIE:Sports
GEO:44.96026000000000;3.54745300000000
LOCATION:Le Bourg\, 43170 Saugues\, France
URL:https://www.fest.fr/e/2433662
UID:2433662-1@fest.fr
END:VEVENT
END:VCALENDAR
