BEGIN:VCALENDAR
CALSCALE:GREGORIAN
VERSION:2.0
METHOD:PUBLISH 
X-WR-CALNAME:
BEGIN:VEVENT
DTSTART;TZID=Europe/Paris:20260509T190000
DTEND;TZID=Europe/Paris:20260509T200000
SUMMARY:Diffusion spectacle de danse
CATEGORIE:Spectacles et Théâtre
GEO:46.10503700000000;-0.74936000000000
LOCATION:Demeure du Régisseur
Micro-Folie de Surgères
Square du Château\, 17700 Surgères\, France
URL:https://www.fest.fr/e/2433653
UID:2433653-1@fest.fr
END:VEVENT
END:VCALENDAR
