BEGIN:VCALENDAR
CALSCALE:GREGORIAN
VERSION:2.0
METHOD:PUBLISH 
X-WR-CALNAME:
BEGIN:VEVENT
DTSTART;TZID=Europe/Paris:20260429T160000
DTEND;TZID=Europe/Paris:20260429T170000
SUMMARY:À vous d’jouer !
CATEGORIE:Jeux et Concours
GEO:48.08867200000000;-1.65906800000000
LOCATION:Bibliothèque Triangle\, 3, bd de Yougoslavie\, 35200 Rennes\, France
URL:https://www.fest.fr/e/2433619
UID:2433619-1@fest.fr
END:VEVENT
BEGIN:VEVENT
DTSTART;TZID=Europe/Paris:20260527T160000
DTEND;TZID=Europe/Paris:20260527T170000
SUMMARY:À vous d’jouer !
CATEGORIE:Jeux et Concours
GEO:48.08867200000000;-1.65906800000000
LOCATION:Bibliothèque Triangle\, 3, bd de Yougoslavie\, 35200 Rennes\, France
URL:https://www.fest.fr/e/2433619
UID:2433619-2@fest.fr
END:VEVENT
END:VCALENDAR
